BEGIN:VCALENDAR
VERSION:2.0
PRODID:-//wp-events-plugin.com//7.2.3.1//EN
TZID:America/New_York
X-WR-TIMEZONE:America/New_York
BEGIN:VEVENT
UID:1070@townofmendonny.gov
DTSTART;TZID=America/New_York:20250107T190000
DTEND;TZID=America/New_York:20250107T200000
DTSTAMP:20250106T212445Z
URL:https://townofmendonny.gov/events/environmental-conservation-board-mee
 ting-2-2024-12-03/
SUMMARY:Environmental Conservation Board Meeting
DESCRIPTION:Town of Mendon Environmental Conservation Board\nMeeting Agenda
 \nTuesday\, January 7th\, 2025\n1. Call to Order\n2. Approval of Past Minu
 tes – November 12\, 2024\n\n3. New Business\n• Wallman Site Plan\n4. 
 Old Business\n• Monroe County Climate Action Plan Discussion\n5. Monroe 
 County Environmental Management Council\n• Town Delegate Appointment\n6.
  Town Board Updates – Tom Dubois\n7. Meeting Adjournment\nNext meeting: 
 Tuesday\, February 4th\, 2025\, 7:00 PM
CATEGORIES:Environmental Conservation Board Meeting
END:VEVENT
BEGIN:VTIMEZONE
TZID:America/New_York
X-LIC-LOCATION:America/New_York
BEGIN:STANDARD
DTSTART:20241103T010000
TZOFFSETFROM:-0400
TZOFFSETTO:-0500
TZNAME:EST
END:STANDARD
END:VTIMEZONE
END:VCALENDAR