BEGIN:VCALENDAR
VERSION:2.0
PRODID:-//wp-events-plugin.com//7.2.3.1//EN
TZID:America/New_York
X-WR-TIMEZONE:America/New_York
BEGIN:VEVENT
UID:1068@townofmendonny.gov
DTSTART;TZID=America/New_York:20241112T190000
DTEND;TZID=America/New_York:20241112T200000
DTSTAMP:20241112T134101Z
URL:https://townofmendonny.gov/events/environmental-conservation-board-mee
 ting-2-2024-10-01/
SUMMARY:Environmental Conservation Board Meeting
DESCRIPTION:Town of Mendon Environmental Conservation Board\nMeeting Agenda
 \nTuesday\, November 12th\, 2024\n1. Call to Order\n2. Approval of Past Mi
 nutes – October 1st\, 2024\n3. New Business\n\n 	 Mitten Subdivision &a
 mp\; Site Plan Application\n 	Monroe County Climate Action Plan Discussion
 \n\n4. Monroe County Environmental Management Council Updates – Carol Cl
 oen\n5. Town Board Updates – Tom Dubois\n6. Meeting Adjournment\nNext me
 eting: Tuesday\, December 3rd\, 2024\, 7:00 PM
CATEGORIES:Environmental Conservation Board Meeting
END:VEVENT
BEGIN:VTIMEZONE
TZID:America/New_York
X-LIC-LOCATION:America/New_York
BEGIN:STANDARD
DTSTART:20241103T010000
TZOFFSETFROM:-0400
TZOFFSETTO:-0500
TZNAME:EST
END:STANDARD
END:VTIMEZONE
END:VCALENDAR