BEGIN:VCALENDAR
VERSION:2.0
PRODID:-//wp-events-plugin.com//7.2.3.1//EN
TZID:America/New_York
X-WR-TIMEZONE:America/New_York
BEGIN:VEVENT
UID:1067@townofmendonny.gov
DTSTART;TZID=America/New_York:20240903T190000
DTEND;TZID=America/New_York:20240903T200000
DTSTAMP:20231205T152729Z
URL:https://townofmendonny.gov/events/environmental-conservation-board-mee
 ting-2-2024-09-03/
SUMMARY:Environmental Conservation Board Meeting
DESCRIPTION:The Agenda will be posted once it is available.
CATEGORIES:Environmental Conservation Board Meeting
END:VEVENT
BEGIN:VTIMEZONE
TZID:America/New_York
X-LIC-LOCATION:America/New_York
BEGIN:DAYLIGHT
DTSTART:20240310T030000
TZOFFSETFROM:-0500
TZOFFSETTO:-0400
TZNAME:EDT
END:DAYLIGHT
END:VTIMEZONE
END:VCALENDAR