BEGIN:VCALENDAR
VERSION:2.0
PRODID:-//wp-events-plugin.com//7.2.3.1//EN
TZID:America/New_York
X-WR-TIMEZONE:America/New_York
BEGIN:VEVENT
UID:1063@townofmendonny.gov
DTSTART;TZID=America/New_York:20240507T190000
DTEND;TZID=America/New_York:20240507T200000
DTSTAMP:20240506T122418Z
URL:https://townofmendonny.gov/events/environmental-conservation-board-mee
 ting-2-2024-05-07/
SUMMARY:Environmental Conservation Board Meeting
DESCRIPTION:Town of Mendon Environmental Conservation Board\nMeeting Agenda
 \nTuesday\, May 7th\, 2024\n\n1. Call to Order\n2. Approval of Past Minute
 s – April 2nd\, 2024\n3. New Business\n-  Ferraro SIte Plan – Propose
 d single family home on 13.53 acre lot at 2785 Rush Mendon Road.\n4. Monro
 e County Environmental Management Council Updates\n5. Town Board Updates 
 – Tom Dubois\n6. Meeting Adjournment\nNext meeting: Tuesday\, June 4th\,
  2024\, 7:00 PM
CATEGORIES:Environmental Conservation Board Meeting
LOCATION:Mendon Town Hall\, 16 West Main Street\, Honeoye Falls\, New York\
 , 14472\, United States
X-APPLE-STRUCTURED-LOCATION;VALUE=URI;X-ADDRESS=16 West Main Street\, Honeo
 ye Falls\, New York\, 14472\, United States;X-APPLE-RADIUS=100;X-TITLE=Men
 don Town Hall:geo:0,0
END:VEVENT
BEGIN:VTIMEZONE
TZID:America/New_York
X-LIC-LOCATION:America/New_York
BEGIN:DAYLIGHT
DTSTART:20240310T030000
TZOFFSETFROM:-0500
TZOFFSETTO:-0400
TZNAME:EDT
END:DAYLIGHT
END:VTIMEZONE
END:VCALENDAR