BEGIN:VCALENDAR
VERSION:2.0
PRODID:-//wp-events-plugin.com//7.2.3.1//EN
TZID:America/New_York
X-WR-TIMEZONE:America/New_York
BEGIN:VEVENT
UID:1060@townofmendonny.gov
DTSTART;TZID=America/New_York:20240206T190000
DTEND;TZID=America/New_York:20240206T200000
DTSTAMP:20231205T152729Z
URL:https://townofmendonny.gov/events/environmental-conservation-board-mee
 ting-2-2024-02-06/
SUMMARY:Environmental Conservation Board Meeting
DESCRIPTION:The Agenda will be posted once it is available.
CATEGORIES:Environmental Conservation Board Meeting
END:VEVENT
BEGIN:VTIMEZONE
TZID:America/New_York
X-LIC-LOCATION:America/New_York
BEGIN:STANDARD
DTSTART:20231105T010000
TZOFFSETFROM:-0400
TZOFFSETTO:-0500
TZNAME:EST
END:STANDARD
END:VTIMEZONE
END:VCALENDAR