BEGIN:VCALENDAR
VERSION:2.0
PRODID:-//wp-events-plugin.com//7.2.3.1//EN
TZID:America/New_York
X-WR-TIMEZONE:America/New_York
BEGIN:VEVENT
UID:1200@townofmendonny.gov
DTSTART;TZID=America/New_York:20251104T190000
DTEND;TZID=America/New_York:20251104T200000
DTSTAMP:20251103T180420Z
URL:https://townofmendonny.gov/events/environmental-conservation-board-mee
 ting-18/
SUMMARY:Environmental Conservation Board Meeting
DESCRIPTION:Town of Mendon Environmental Conservation Board\nMeeting Agenda
 \nTuesday\, November 4th\, 2025\n1. Call to Order\n2. Approval of Past Min
 utes – October 7\, 2025\n3. New Business\n• O'Hara 2 - Lot Subdivision
  &amp\; Site Plan\n4. Monroe County Environmental Management Council Updat
 es – Margaret Bailey\n5. Town Board Updates – Jim Merzke\n6. Meeting A
 djournment\nNext meeting: Tuesday\, December 2\, 2025\, 7:00 PM\n
CATEGORIES:Environmental Conservation Board Meeting
END:VEVENT
BEGIN:VTIMEZONE
TZID:America/New_York
X-LIC-LOCATION:America/New_York
BEGIN:STANDARD
DTSTART:20251102T010000
TZOFFSETFROM:-0400
TZOFFSETTO:-0500
TZNAME:EST
END:STANDARD
END:VTIMEZONE
END:VCALENDAR