BEGIN:VCALENDAR
VERSION:2.0
PRODID:-//wp-events-plugin.com//7.2.3.1//EN
TZID:America/New_York
X-WR-TIMEZONE:America/New_York
BEGIN:VEVENT
UID:1191@townofmendonny.gov
DTSTART;TZID=America/New_York:20251007T190000
DTEND;TZID=America/New_York:20251007T200000
DTSTAMP:20251006T173011Z
URL:https://townofmendonny.gov/events/environmental-conservation-board-mee
 ting-17/
SUMMARY:Environmental Conservation Board Meeting
DESCRIPTION:Town of Mendon Environmental Conservation Board\nMeeting Agenda
 \nTuesday\, October 7\, 2025\n\n1. Call to Order\n2. Approval of Past Minu
 tes – September 2nd\, 2025\n3. Old Business\n- Monroe County Climate Act
 ion Plan Discussion\n4. Monroe County Environmental Management Council Upd
 ates – Margaret Bailey\n5. Town Board Updates – Jim Merzke\n6. Meeting
  Adjournment\nNext meeting: Tuesday\, November 4th\, 2025\, 7:00 PM\n
CATEGORIES:Environmental Conservation Board Meeting
END:VEVENT
BEGIN:VTIMEZONE
TZID:America/New_York
X-LIC-LOCATION:America/New_York
BEGIN:DAYLIGHT
DTSTART:20250309T030000
TZOFFSETFROM:-0500
TZOFFSETTO:-0400
TZNAME:EDT
END:DAYLIGHT
END:VTIMEZONE
END:VCALENDAR