BEGIN:VCALENDAR
VERSION:2.0
PRODID:-//wp-events-plugin.com//7.2.3.1//EN
TZID:America/New_York
X-WR-TIMEZONE:America/New_York
BEGIN:VEVENT
UID:1187@townofmendonny.gov
DTSTART;TZID=America/New_York:20250902T190000
DTEND;TZID=America/New_York:20250902T200000
DTSTAMP:20250902T001256Z
URL:https://townofmendonny.gov/events/environmental-conservation-board-mee
 ting-16/
SUMMARY:Environmental Conservation Board Meeting
DESCRIPTION:Town of Mendon Environmental Conservation Board\nMeeting Agenda
 \nTuesday\, September 2\, 2025\n1. Call to Order\n2. Approval of Past Minu
 tes – August 5\, 2025\n3. Old Business\n• Monroe County Climate Action
  Plan Discussion\n4. New Business\n• Orban Subdivision &amp\; Site Plan 
 Application\n5. Monroe County Environmental Management Council Updates –
  Margaret Bailey\n6. Town Board Updates – Jim Merzke\n7. Meeting Adjourn
 ment\nNext meeting: Tuesday\, October 7\, 2025\, 7:00 PM\n
CATEGORIES:Environmental Conservation Board Meeting
END:VEVENT
BEGIN:VTIMEZONE
TZID:America/New_York
X-LIC-LOCATION:America/New_York
BEGIN:DAYLIGHT
DTSTART:20250309T030000
TZOFFSETFROM:-0500
TZOFFSETTO:-0400
TZNAME:EDT
END:DAYLIGHT
END:VTIMEZONE
END:VCALENDAR