BEGIN:VCALENDAR
VERSION:2.0
PRODID:-//wp-events-plugin.com//7.2.3.1//EN
TZID:America/New_York
X-WR-TIMEZONE:America/New_York
BEGIN:VEVENT
UID:1172@townofmendonny.gov
DTSTART;TZID=America/New_York:20250603T190000
DTEND;TZID=America/New_York:20250603T200000
DTSTAMP:20250603T012409Z
URL:https://townofmendonny.gov/events/environmental-conservation-board-mee
 ting-14/
SUMMARY:Environmental Conservation Board Meeting
DESCRIPTION:&nbsp\;\n\nEnvironmental Conservation Board Meeting Agenda\n\n1
 . Call to Order\n2. Approval of Past Minutes – May 20th\, 2025\n3. Old B
 usiness\n• Monroe County Climate Action Plan Discussion\n4. New Business
 \n• Silvarole Site Plan Resubmission\n5. Monroe County Environmental Man
 agement Council Updates – Margaret Bailey\n6. Town Board Updates – Jim
  Merzke\n7. Meeting Adjournment\n\nNext meeting: Tuesday\, July 1st\, 2025
 \, 7:00 PM\n\n&nbsp\;
CATEGORIES:Environmental Conservation Board Meeting
END:VEVENT
BEGIN:VTIMEZONE
TZID:America/New_York
X-LIC-LOCATION:America/New_York
BEGIN:DAYLIGHT
DTSTART:20250309T030000
TZOFFSETFROM:-0500
TZOFFSETTO:-0400
TZNAME:EDT
END:DAYLIGHT
END:VTIMEZONE
END:VCALENDAR