BEGIN:VCALENDAR
VERSION:2.0
PRODID:-//wp-events-plugin.com//7.2.3.1//EN
TZID:America/New_York
X-WR-TIMEZONE:America/New_York
BEGIN:VEVENT
UID:1163@townofmendonny.gov
DTSTART;TZID=America/New_York:20250304T190000
DTEND;TZID=America/New_York:20250304T200000
DTSTAMP:20250304T182617Z
URL:https://townofmendonny.gov/events/environmental-conservation-board-mee
 ting-12/
SUMMARY:Environmental Conservation Board Meeting
DESCRIPTION:Town of Mendon Environmental Conservation Board\nMeeting Agenda
 \nTuesday\, March 4\, 2025\n\n1. Call to Order\n2. Approval of Past Minute
 s – February 4\, 2025\n\n3. Old Business\nMonroe County Climate Action P
 lan Discussion\n4. Monroe County Environmental Management Council Updates 
 – Margaret Bailey\n5. Town Board Updates – Tom Dubois\n6. Meeting Adjo
 urnment\n\nNext meeting: Tuesday\, April 1\, 2025\, 7:00 PM\n\n&nbsp\;
CATEGORIES:Environmental Conservation Board Meeting
END:VEVENT
BEGIN:VTIMEZONE
TZID:America/New_York
X-LIC-LOCATION:America/New_York
BEGIN:STANDARD
DTSTART:20241103T010000
TZOFFSETFROM:-0400
TZOFFSETTO:-0500
TZNAME:EST
END:STANDARD
END:VTIMEZONE
END:VCALENDAR