BEGIN:VCALENDAR
VERSION:2.0
PRODID:-//wp-events-plugin.com//7.2.3.1//EN
TZID:America/New_York
X-WR-TIMEZONE:America/New_York
BEGIN:VEVENT
UID:1242@townofmendonny.gov
DTSTART;TZID=America/New_York:20260512T190000
DTEND;TZID=America/New_York:20260512T200000
DTSTAMP:20260418T143920Z
URL:https://townofmendonny.gov/events/environmental-conservation-board-4/
SUMMARY:Environmental Conservation Board
DESCRIPTION:AGENDA: Please check back later.\n\n&nbsp\;\n\nMore information
  about the ECB can be found here: https://townofmendonny.gov/administrati
 on/environmental-conservation-board/
CATEGORIES:Environmental Conservation Board Meeting
END:VEVENT
BEGIN:VTIMEZONE
TZID:America/New_York
X-LIC-LOCATION:America/New_York
BEGIN:DAYLIGHT
DTSTART:20260308T030000
TZOFFSETFROM:-0500
TZOFFSETTO:-0400
TZNAME:EDT
END:DAYLIGHT
END:VTIMEZONE
END:VCALENDAR