BEGIN:VCALENDAR
VERSION:2.0
PRODID:-//wp-events-plugin.com//7.2.3.1//EN
TZID:America/New_York
X-WR-TIMEZONE:America/New_York
BEGIN:VEVENT
UID:1130@townofmendonny.gov
DTSTART;TZID=America/New_York:20240829T090000
DTEND;TZID=America/New_York:20240829T140000
DTSTAMP:20240305T140932Z
URL:https://townofmendonny.gov/events/blood-drive/
SUMMARY:Blood Drive
DESCRIPTION:\n\n\nDate :\n8/29/2024\n\n\nStart Time :\n09:00 AM\n\n\nEnd Ti
 me :\n02:00 PM\n\n\nWhere :\nMendon Community Center\n\n\n\nCommunity Cent
 er\n\n\nAddress :\n167 North Main Street\, \, Honeoye Falls\, NY 14472\n\n
 \n
LOCATION:Mendon Community Center\, 167 North Main St\, Honeoye Falls\, New 
 York\, 14472\, United States
X-APPLE-STRUCTURED-LOCATION;VALUE=URI;X-ADDRESS=167 North Main St\, Honeoye
  Falls\, New York\, 14472\, United States;X-APPLE-RADIUS=100;X-TITLE=Mendo
 n Community Center:geo:0,0
END:VEVENT
BEGIN:VTIMEZONE
TZID:America/New_York
X-LIC-LOCATION:America/New_York
BEGIN:DAYLIGHT
DTSTART:20240310T030000
TZOFFSETFROM:-0500
TZOFFSETTO:-0400
TZNAME:EDT
END:DAYLIGHT
END:VTIMEZONE
END:VCALENDAR