BEGIN:VCALENDAR
VERSION:2.0
PRODID:-//wp-events-plugin.com//7.2.3.1//EN
TZID:America/New_York
X-WR-TIMEZONE:America/New_York
BEGIN:VEVENT
UID:1085@townofmendonny.gov
DTSTART;TZID=America/New_York:20240102T190000
DTEND;TZID=America/New_York:20240102T200000
DTSTAMP:20240102T194214Z
URL:https://townofmendonny.gov/events/7499/
SUMMARY:Town Board Organizational Meeting
DESCRIPTION:TOWN OF MENDON\nTown Board Agenda - Tentative\nORGANIZATIONAL M
 EETING - 2024\n \n\n 	Call to Order\n 	Pledge of Allegiance\n 	Agenda\n 	
 Public Comment\n 	Public Hearing- Short-Term Rental Renewal- 3880 Rush Men
 don Road\n 	Delegation of Administrative Duties to The Supervisor\n 	Town 
 Attorney-Appointment\n 	Receiver of Taxes - Appointment\n 	Position Appoin
 tments\n 	Position Retention\n 	Deputy Town Clerk-Part Time - Position Ret
 ention and Appointment\n 	Highway Department - Position Retentions and App
 ointments\n 	Zoning Board of Appeals Attorney - Position Retention and App
 ointment\n 	Planning Board Attorney - Position Retention and Appointment\n
  	Deputy Town Attorney - Position Retention and Appointment\n 	Justice Cou
 rt - Temporary Assignment of Justices\n 	Liaisons\n 	Town Board Meetings S
 chedule\n 	Standard Workday for Elected and Appointed Officials\n 	2024 Ho
 liday Schedules\n 	Town Hall Operating Hours\n 	Policy and Procedures Manu
 al\n 	Fund Balance Policy\n 	Emergency Preparedness (Disaster) Plan\n 	Off
 icial Town Map\n 	Official Newspaper\n 	Emergency Response - Highway Depar
 tment\n 	Mendon Fire Hall - Ice Control\n 	Boards\, Committees\, Commissio
 ns - Advertise for Meetings\n 	Official Undertakings\n 	Salaries - Elected
 /Appointed/Hourly Wages\n 	Personnel Policy - Variable Amounts Associated 
 with Policies\n 	Payroll Schedule\n 	Mileage Allowance\n 	Annual Report of
  Supervisor\n 	Annual Accounting - Town Board Committee\n 	Official Banks\
 n 	Payments Before Audit\n 	Review of Monthly Vouchers\n 	Petty Cash Funds
 \n 	Fee Schedule\n 	Environmental Conservation Board\n 	Historic Preservat
 ion Commission\n 	Library Board of Trustees - Appointment\n 	Planning Boar
 d\n 	Zoning Board of Appeals\n 	Records Management Advisory Board\n 	Engin
 eering/Planning Services Agreement\n 	Highway Department Agreements\n 	Com
 mercial Driver's License Drug Testing Policy\n 	Town Hall Agreements\n 	Co
 mmunity Center Agreements\n 	22 North Main Street Agreement\n 	Village of 
 Honeoye Falls Agreements\n 	Honeoye Falls-Lima Central School District Agr
 eements\n 	Monroe County Agreements\n 	Community Organization Agreements\n
  	Use of Town Meeting Rooms\n 	Communications\n 	Approval of Minutes\n 	Pu
 blic Comment\n 	Adjournment\n\nOrganizational Meeting Information Package
LOCATION:Mendon Town Hall\, 16 West Main Street\, Honeoye Falls\, New York\
 , 14472\, United States
X-APPLE-STRUCTURED-LOCATION;VALUE=URI;X-ADDRESS=16 West Main Street\, Honeo
 ye Falls\, New York\, 14472\, United States;X-APPLE-RADIUS=100;X-TITLE=Men
 don Town Hall:geo:0,0
END:VEVENT
BEGIN:VTIMEZONE
TZID:America/New_York
X-LIC-LOCATION:America/New_York
BEGIN:STANDARD
DTSTART:20231105T010000
TZOFFSETFROM:-0400
TZOFFSETTO:-0500
TZNAME:EST
END:STANDARD
END:VTIMEZONE
END:VCALENDAR